BEGIN:VCALENDAR
PRODID:-//github.com/ical-org/ical.net//NONSGML ical.net 4.0//EN
VERSION:2.0
BEGIN:VEVENT
DTEND:20260420T134500
DTSTAMP:20260419T190306Z
DTSTART:20260420T130000
LOCATION:Ardfallen Centre\, Douglas\, Cork\, Nursery Drive\, Ballinlough\,
  Cork
SEQUENCE:0
SUMMARY:Mixed Age Class (newborn to age 5) with Alice
UID:9357928
END:VEVENT
BEGIN:VEVENT
DTEND:20260425T134500
DTSTAMP:20260419T190306Z
DTSTART:20260425T130000
LOCATION:Ardfallen Centre\, Douglas\, Cork\, Nursery Drive\, Ballinlough\,
  Cork
SEQUENCE:0
SUMMARY:Mixed Age Class (newborn to age 5) with Alice
UID:9311844
END:VEVENT
BEGIN:VEVENT
DTEND:20260427T134500
DTSTAMP:20260419T190306Z
DTSTART:20260427T130000
LOCATION:Ardfallen Centre\, Douglas\, Cork\, Nursery Drive\, Ballinlough\,
  Cork
SEQUENCE:0
SUMMARY:Mixed Age Class (newborn to age 5) with Alice
UID:9241084
END:VEVENT
BEGIN:VEVENT
DTEND:20260511T134500
DTSTAMP:20260419T190306Z
DTSTART:20260511T130000
LOCATION:Ardfallen Centre\, Douglas\, Cork\, Nursery Drive\, Ballinlough\,
  Cork
SEQUENCE:0
SUMMARY:Mixed Age Class (newborn to age 5) with Alice
UID:9241086
END:VEVENT
BEGIN:VEVENT
DTEND:20260518T134500
DTSTAMP:20260419T190306Z
DTSTART:20260518T130000
LOCATION:Ardfallen Centre\, Douglas\, Cork\, Nursery Drive\, Ballinlough\,
  Cork
SEQUENCE:0
SUMMARY:Mixed Age Class (newborn to age 5) with Alice
UID:9311854
END:VEVENT
BEGIN:VEVENT
DTEND:20260525T134500
DTSTAMP:20260419T190306Z
DTSTART:20260525T130000
LOCATION:Ardfallen Centre\, Douglas\, Cork\, Nursery Drive\, Ballinlough\,
  Cork
SEQUENCE:0
SUMMARY:Mixed Age Class (newborn to age 5) with Alice
UID:9357954
END:VEVENT
BEGIN:VEVENT
DTEND:20260608T134500
DTSTAMP:20260419T190306Z
DTSTART:20260608T130000
LOCATION:Ardfallen Centre\, Douglas\, Cork\, Nursery Drive\, Ballinlough\,
  Cork
SEQUENCE:0
SUMMARY:Mixed Age Class (newborn to age 5) with Alice
UID:9241089
END:VEVENT
BEGIN:VEVENT
DTEND:20260615T134500
DTSTAMP:20260419T190306Z
DTSTART:20260615T130000
LOCATION:Ardfallen Centre\, Douglas\, Cork\, Nursery Drive\, Ballinlough\,
  Cork
SEQUENCE:0
SUMMARY:Mixed Age Class (newborn to age 5) with Alice
UID:9357938
END:VEVENT
BEGIN:VEVENT
DTEND:20260622T134500
DTSTAMP:20260419T190306Z
DTSTART:20260622T130000
LOCATION:Ardfallen Centre\, Douglas\, Cork\, Nursery Drive\, Ballinlough\,
  Cork
SEQUENCE:0
SUMMARY:Mixed Age Class (newborn to age 5) with Alice
UID:9357929
END:VEVENT
BEGIN:VTIMEZONE
TZID:Europe/London
X-LIC-LOCATION:Europe/London
END:VTIMEZONE
END:VCALENDAR
