BEGIN:VCALENDAR
PRODID:-//github.com/ical-org/ical.net//NONSGML ical.net 4.0//EN
VERSION:2.0
BEGIN:VEVENT
DTEND:20260422T103000
DTSTAMP:20260419T190403Z
DTSTART:20260422T094500
LOCATION:Ardfallen Centre\, Douglas\, Cork\, Nursery Drive\, Ballinlough\,
  Cork
SEQUENCE:0
SUMMARY:Mixed Age Class (newborn to age 5) with Mairéad
UID:9241092
END:VEVENT
BEGIN:VEVENT
DTEND:20260429T103000
DTSTAMP:20260419T190403Z
DTSTART:20260429T094500
LOCATION:Ardfallen Centre\, Douglas\, Cork\, Nursery Drive\, Ballinlough\,
  Cork
SEQUENCE:0
SUMMARY:Mixed Age Class (newborn to age 5) with Mairéad
UID:9241093
END:VEVENT
BEGIN:VEVENT
DTEND:20260506T103000
DTSTAMP:20260419T190403Z
DTSTART:20260506T094500
LOCATION:Ardfallen Centre\, Douglas\, Cork\, Nursery Drive\, Ballinlough\,
  Cork
SEQUENCE:0
SUMMARY:Mixed Age Class (newborn to age 5) with Mairéad
UID:9241094
END:VEVENT
BEGIN:VEVENT
DTEND:20260513T103000
DTSTAMP:20260419T190403Z
DTSTART:20260513T094500
LOCATION:Ardfallen Centre\, Douglas\, Cork\, Nursery Drive\, Ballinlough\,
  Cork
SEQUENCE:0
SUMMARY:Mixed Age Class (newborn to age 5) with Mairéad
UID:9241095
END:VEVENT
BEGIN:VEVENT
DTEND:20260520T103000
DTSTAMP:20260419T190403Z
DTSTART:20260520T094500
LOCATION:Ardfallen Centre\, Douglas\, Cork\, Nursery Drive\, Ballinlough\,
  Cork
SEQUENCE:0
SUMMARY:Mixed Age Class (newborn to age 5) with Mairéad
UID:9241096
END:VEVENT
BEGIN:VEVENT
DTEND:20260527T103000
DTSTAMP:20260419T190403Z
DTSTART:20260527T094500
LOCATION:Ardfallen Centre\, Douglas\, Cork\, Nursery Drive\, Ballinlough\,
  Cork
SEQUENCE:0
SUMMARY:Mixed Age Class (newborn to age 5) with Mairéad
UID:9241097
END:VEVENT
BEGIN:VTIMEZONE
TZID:Europe/London
X-LIC-LOCATION:Europe/London
END:VTIMEZONE
END:VCALENDAR
