BEGIN:VCALENDAR
PRODID:-//github.com/ical-org/ical.net//NONSGML ical.net 4.0//EN
VERSION:2.0
BEGIN:VEVENT
DTEND:20260423T103000
DTSTAMP:20260419T185650Z
DTSTART:20260423T094500
LOCATION:Ardfallen Centre\, Douglas\, Cork\, Nursery Drive\, Ballinlough\,
  Cork
SEQUENCE:0
SUMMARY:Mixed Age Class (newborn to age 5) with Mairéad
UID:9241116
END:VEVENT
BEGIN:VEVENT
DTEND:20260430T103000
DTSTAMP:20260419T185650Z
DTSTART:20260430T094500
LOCATION:Ardfallen Centre\, Douglas\, Cork\, Nursery Drive\, Ballinlough\,
  Cork
SEQUENCE:0
SUMMARY:Mixed Age Class (newborn to age 5) with Mairéad
UID:9241117
END:VEVENT
BEGIN:VEVENT
DTEND:20260507T103000
DTSTAMP:20260419T185650Z
DTSTART:20260507T094500
LOCATION:Ardfallen Centre\, Douglas\, Cork\, Nursery Drive\, Ballinlough\,
  Cork
SEQUENCE:0
SUMMARY:Mixed Age Class (newborn to age 5) with Mairéad
UID:9241118
END:VEVENT
BEGIN:VEVENT
DTEND:20260514T103000
DTSTAMP:20260419T185650Z
DTSTART:20260514T094500
LOCATION:Ardfallen Centre\, Douglas\, Cork\, Nursery Drive\, Ballinlough\,
  Cork
SEQUENCE:0
SUMMARY:Mixed Age Class (newborn to age 5) with Mairéad
UID:9241119
END:VEVENT
BEGIN:VEVENT
DTEND:20260521T103000
DTSTAMP:20260419T185650Z
DTSTART:20260521T094500
LOCATION:Ardfallen Centre\, Douglas\, Cork\, Nursery Drive\, Ballinlough\,
  Cork
SEQUENCE:0
SUMMARY:Mixed Age Class (newborn to age 5) with Mairéad
UID:9241120
END:VEVENT
BEGIN:VEVENT
DTEND:20260528T103000
DTSTAMP:20260419T185650Z
DTSTART:20260528T094500
LOCATION:Ardfallen Centre\, Douglas\, Cork\, Nursery Drive\, Ballinlough\,
  Cork
SEQUENCE:0
SUMMARY:Mixed Age Class (newborn to age 5) with Mairéad
UID:9241121
END:VEVENT
BEGIN:VTIMEZONE
TZID:Europe/London
X-LIC-LOCATION:Europe/London
END:VTIMEZONE
END:VCALENDAR
